BEGIN:VCALENDAR
VERSION:2.0
PRODID:-//pretix//pretix.eu//
BEGIN:VTIMEZONE
TZID:Europe/Berlin
BEGIN:STANDARD
DTSTART:20001029T040000
RRULE:FREQ=YEARLY;BYDAY=-1SU;BYMONTH=10
TZNAME:CET
TZOFFSETFROM:+0200
TZOFFSETTO:+0100
END:STANDARD
BEGIN:DAYLIGHT
DTSTART:20000326T030000
RRULE:FREQ=YEARLY;BYDAY=-1SU;BYMONTH=3
TZNAME:CEST
TZOFFSETFROM:+0100
TZOFFSETTO:+0200
END:DAYLIGHT
END:VTIMEZONE
BEGIN:VEVENT
UID:pretix-castroprauxel-wifoed-3926832@ticketshop.castrop-rauxel.de
DTSTART;TZID=Europe/Berlin:20231116T173000
DTEND;TZID=Europe/Berlin:20231116T193000
DESCRIPTION:Tickets: https://ticketshop.castrop-rauxel.de/wifoed/3926832/\n
 Veranstalter: Stadt Castrop-Rauxel
DTSTAMP:20260422T052105Z
LOCATION:Restaurant Parkbad Süd\, Am Stadtgarten 20\, 44575 Castrop-Rauxel
SUMMARY:CAS IT-Meetup
END:VEVENT
END:VCALENDAR
