BEGIN:VCALENDAR
VERSION:2.0
PRODID:-//pretix//pretix.eu//
BEGIN:VTIMEZONE
TZID:Europe/Berlin
BEGIN:STANDARD
DTSTART:20001029T040000
RRULE:FREQ=YEARLY;BYDAY=-1SU;BYMONTH=10
TZNAME:CET
TZOFFSETFROM:+0200
TZOFFSETTO:+0100
END:STANDARD
BEGIN:DAYLIGHT
DTSTART:20000326T030000
RRULE:FREQ=YEARLY;BYDAY=-1SU;BYMONTH=3
TZNAME:CEST
TZOFFSETFROM:+0100
TZOFFSETTO:+0200
END:DAYLIGHT
END:VTIMEZONE
BEGIN:VEVENT
UID:pretix-castroprauxel-casterixherbst-4239732@ticketshop.castrop-rauxel.d
 e
DTSTART;TZID=Europe/Berlin:20241023T100000
DTEND;TZID=Europe/Berlin:20241023T160000
DESCRIPTION:Tickets: https://ticketshop.castrop-rauxel.de/casterixherbst/42
 39732/\nVeranstalter: Stadt Castrop-Rauxel
DTSTAMP:20260419T145535Z
LOCATION:Jugendzentrum D-Town\, Dresdener Straße 24\, 44577 Castrop-Rauxel
SUMMARY:Bunte Tüte - Drachengeflüster
END:VEVENT
END:VCALENDAR
