BEGIN:VCALENDAR
VERSION:2.0
PRODID:-//pretix//pretix.eu//
BEGIN:VTIMEZONE
TZID:Europe/Berlin
BEGIN:STANDARD
DTSTART:20001029T040000
RRULE:FREQ=YEARLY;BYDAY=-1SU;BYMONTH=10
TZNAME:CET
TZOFFSETFROM:+0200
TZOFFSETTO:+0100
END:STANDARD
BEGIN:DAYLIGHT
DTSTART:20000326T030000
RRULE:FREQ=YEARLY;BYDAY=-1SU;BYMONTH=3
TZNAME:CEST
TZOFFSETFROM:+0100
TZOFFSETTO:+0200
END:DAYLIGHT
END:VTIMEZONE
BEGIN:VEVENT
UID:pretix-castroprauxel-casterix-4154666@ticketshop.castrop-rauxel.de
DTSTART;TZID=Europe/Berlin:20240805T080000
DTEND;TZID=Europe/Berlin:20240809T160000
DESCRIPTION:Tickets: https://ticketshop.castrop-rauxel.de/casterix/4154666/
 \nEinlass: 05.08.2024 08:00\nVeranstalter: Stadt Castrop-Rauxel
DTSTAMP:20260421T141458Z
LOCATION:Kinder- und Jugendzentrum Trafo\, In der Wanne 102\, 44581 Castrop
 -Rauxel\, Tel. 02305/73148\, jugendzentrum-trafo@castrop-rauxel.de
SUMMARY:Kommt vorbei & seid dabei
END:VEVENT
END:VCALENDAR
