BEGIN:VCALENDAR
VERSION:2.0
PRODID:-//pretix//pretix.eu//
BEGIN:VTIMEZONE
TZID:Europe/Berlin
BEGIN:STANDARD
DTSTART:20001029T040000
RRULE:FREQ=YEARLY;BYDAY=-1SU;BYMONTH=10
TZNAME:CET
TZOFFSETFROM:+0200
TZOFFSETTO:+0100
END:STANDARD
BEGIN:DAYLIGHT
DTSTART:20000326T030000
RRULE:FREQ=YEARLY;BYDAY=-1SU;BYMONTH=3
TZNAME:CEST
TZOFFSETFROM:+0100
TZOFFSETTO:+0200
END:DAYLIGHT
END:VTIMEZONE
BEGIN:VEVENT
UID:pretix-castroprauxel-casterix-4154659@ticketshop.castrop-rauxel.de
DTSTART;TZID=Europe/Berlin:20240801T090000
DTEND;TZID=Europe/Berlin:20240801T170000
DESCRIPTION:Tickets: https://ticketshop.castrop-rauxel.de/casterix/4154659/
 \nVeranstalter: Stadt Castrop-Rauxel
DTSTAMP:20260421T141437Z
LOCATION:Jugendzentrum BoGi´s Café\, Leonhardstraße 2\, 44575 Castrop-Ra
 uxel\, Tel. 02305/9208598 oder 0178/6321876\, jugendzentrum-bogis@castrop-
 rauxel.de
SUMMARY:Städtetrip nach Köln
END:VEVENT
END:VCALENDAR
