BEGIN:VCALENDAR
VERSION:2.0
PRODID:-//pretix//pretix.eu//
BEGIN:VTIMEZONE
TZID:Europe/Berlin
BEGIN:STANDARD
DTSTART:20001029T040000
RRULE:FREQ=YEARLY;BYDAY=-1SU;BYMONTH=10
TZNAME:CET
TZOFFSETFROM:+0200
TZOFFSETTO:+0100
END:STANDARD
BEGIN:DAYLIGHT
DTSTART:20000326T030000
RRULE:FREQ=YEARLY;BYDAY=-1SU;BYMONTH=3
TZNAME:CEST
TZOFFSETFROM:+0100
TZOFFSETTO:+0200
END:DAYLIGHT
END:VTIMEZONE
BEGIN:VEVENT
UID:pretix-castroprauxel-casterix-4154586@ticketshop.castrop-rauxel.de
DTSTART;TZID=Europe/Berlin:20240730T100000
DTEND;TZID=Europe/Berlin:20240730T160000
DESCRIPTION:Tickets: https://ticketshop.castrop-rauxel.de/casterix/4154586/
 \nEinlass: 30.07.2024 00:00\nVeranstalter: Stadt Castrop-Rauxel
DTSTAMP:20260421T155428Z
LOCATION:Jugendzentrum BoGi´s Café\, Leonhardstraße 2\, 44575 Castrop-Ra
 uxel\, Tel. 02305/9208598  oder 0178/6321876\, jugendzentrum-bogis@castrop
 -rauxel.de
SUMMARY:Ausflug ins Gasometer nach Oberhausen
END:VEVENT
END:VCALENDAR
